BEGIN:VCALENDAR
VERSION:2.0
PRODID:-//International Federation of Armwrestling (IFA) - ECPv6.3.2//NONSGML v1.0//EN
CALSCALE:GREGORIAN
METHOD:PUBLISH
X-WR-CALNAME:International Federation of Armwrestling (IFA)
X-ORIGINAL-URL:https://armsportfederation.com
X-WR-CALDESC:Events for International Federation of Armwrestling (IFA)
REFRESH-INTERVAL;VALUE=DURATION:PT1H
X-Robots-Tag:noindex
X-PUBLISHED-TTL:PT1H
BEGIN:VTIMEZONE
TZID:UTC
BEGIN:STANDARD
TZOFFSETFROM:+0000
TZOFFSETTO:+0000
TZNAME:UTC
DTSTART:20230101T000000
END:STANDARD
TZID:Europe/Helsinki
BEGIN:DAYLIGHT
TZOFFSETFROM:+0200
TZOFFSETTO:+0300
TZNAME:EEST
DTSTART:20230326T010000
END:DAYLIGHT
BEGIN:STANDARD
TZOFFSETFROM:+0300
TZOFFSETTO:+0200
TZNAME:EET
DTSTART:20231029T010000
END:STANDARD
END:VTIMEZONE
BEGIN:VEVENT
DTSTART;VALUE=DATE:20240128
DTEND;VALUE=DATE:20240129
DTSTAMP:20260426T022300
CREATED:20240116T065029Z
LAST-MODIFIED:20240116T065029Z
UID:855-1706400000-1706486399@armsportfederation.com
SUMMARY:Smash Arms
DESCRIPTION:Dackeskolan\, Mjölby\, Elprogrammet – Elteknik \nRegistration link\nhttps://armwrestling.com.pl/\nPayment must be made at the weigh-in at the latest! We know that January is a tough month for many\, so we do not require payment in connection with registration \nLast date for registration 2024-01-20 \nWeight classes Smash Arms\nDisable\nDivision by registration\nSubjunior\nOpen class Girls\nOpen class boys\nJuniors\nGirls\n-55 -65 +65\nBoys\n-50-60 -70 -80 -90 +90\nClass 2 (beginners)\nLady\n-70 -80 +80\nMr\n-75 -85 -95 +95\nClass 1\nLady\n-70 -80 +80\nMr\n-75 -85 -95 -105 +105\nMasters\nLady\n-70 +70\nMr\n-70 -80 -90 +90\nPRO\nLady\n-63 -70 -78 +78\nMr\n-70 -78 -86 -95 -105 +105 \nAward\nCost will be for seniors and masters SEK 200 per arm (note two right and one left entrance = SEK 600)\nJuniors SEK 150 per arm. \nThe registration fee is swished to 1232200475 or paid on site. Mark the payment with name and club. Foreign breakers can pay on the spot. \nThe goal is for this competition to attract more than 200 armwrestlers\, which means that we will conduct it on at least 5 armwrestler tables. \nWe will have a Café with various sales \nSale of various arm switch handles etc. will also be on site \nWeigh-in Friday 18-20 Saturday 7-10. Competition start 10.30
URL:https://armsportfederation.com/event/smash-arms/
LOCATION:Dackeskolan\, Mjölby\, Elprogrammet – Elteknik\, Mjölby\, Sweden
CATEGORIES:Local event
END:VEVENT
BEGIN:VEVENT
DTSTART;VALUE=DATE:20240120
DTEND;VALUE=DATE:20240121
DTSTAMP:20260426T022300
CREATED:20240116T071115Z
LAST-MODIFIED:20240116T071115Z
UID:882-1705708800-1705795199@armsportfederation.com
SUMMARY:HÄJY POWER 2024
DESCRIPTION:Häjy Power 2024\n\nKilpailu- ja punnituspaikka\nJurvan Liikuntahalli\, Peurantie 5\, 66300 Jurva \nAikataulu\nPunnitus\npe 19.1 klo 19.00 – 20.00\nla 20.1 klo 9.00 – 10.30 \nKilpailu\nla 20.1 klo 13.00- \nSarjat (oikea ja vasen)\nJunior 21 (syntynyt 2003 tai myöhemmin)\nPojat: -75\, -90\, +90 kg\nTytöt: avoin \nPRO\nMiehet: -67\, -77\, -87\, -97\, +97 kg\nNaiset: -65\, +65 kg \nNoviisit/aloittelijat\nMiehet: -80\, -100\, +100 kg\nNaiset: Avoin \nLiikuntarajoitteiset (istumapöytä)\nAvoin \nOsallistumismaksu (sis. molemmat kädet)\nEnnakkoon ilmoittautuneet / sarja\nNoviisi: 30 €\nPro: 30 €\nJunior: 15 €\nLiikuntarajoitteiset: 15 € \nPaikan päällä / sarja\nNoviisi: 50 €\nPro: 50 €\nJunior: 30 €\nLiikuntarajoitteiset: 30 € \nLisäsarja 10 € / sarja \nEnnakkoilmoittautuminen 14.1.2024 mennessä.\nEnnakkoilmoittautumislomake \nKilpailijoilla tulee olla voimassa oleva kilpailulisenssi (noviiseille riittää harrastajalisenssi) ja Puhtaasti Paras -verkkokoulutus suoritettuna. Alle 18-vuotiailla kilpailijoilla tulee olla vakuutus joka kattaa kilpakädenväännön. \nLisätietoja\nLeif Ojala\npuh. 040-700 7288\nleifojala@hotmail.com
URL:https://armsportfederation.com/event/hajy-power-2024/
LOCATION:Jurva\, Jurva\, Finland
END:VEVENT
BEGIN:VEVENT
DTSTART;VALUE=DATE:20231202
DTEND;VALUE=DATE:20231203
DTSTAMP:20260426T022300
CREATED:20231117T184905Z
LAST-MODIFIED:20231117T184905Z
UID:847-1701475200-1701561599@armsportfederation.com
SUMMARY:Sabac Open 2023
DESCRIPTION:#6 Sabac Open will be held on DECEMBER 2 (SATURDAY) FROM 12:00 PM in the Sabac Gymnasium. You can register online by confirming this event or contact Milos Zeljica on fb. or inst. Registrations and measurements will be held at the Sabac High School on FRIDAY (1st December) from 6-8pm and on SATURDAY (2nd December) from 8am-10am\, COMPETITION STARTS AT 12pm. For the first time\, we will have LICENSED REFEREES at our tournaments. With this tournament\, we will raise our sport to a much higher level. We adapted the categories to other IFA tournaments. Categories: 1. JUNIORS (15 years) – absolute category. 2. JUNIORS (18 years old) -63kg\, 63-70kg\, 70-78kg\, 78-86kg\, +86kg. 3. JUNIORS (GIRLS -18 years old) -63kg\, +63kg 4. AMATEURS / BEGINNERS -86kg\, +86kg 5. WOMEN -63kg\, +63kg 6. SENIORS – 63kg\, 63-70kg\, 70-78kg\, 78-86kg\, 86-95kg\, 95-105kg\, +105kg 7. MASTERS (over 40 years old) -78kg\, 78-95kg\, +95kg 8. ABSOLUTE CATEGORY FOR WOMEN 9. ABSOLUTE CATEGORY FOR MEN – The first two places in each senior category\, and the first place in each junior and master category enter the ABSOLUTE CATEGORY. FEES: 1. JUNIORS 15 YEARS OLD. – FREE PARTICIPATION 2. JUNIORS 18 YEARS OLD 5e 3. WOMEN 5e 4. AMATEURS/BEGINNERS 6e 5. SENIORS AND MASTERS 10e Possible competition in TWO CATEGORIES – the second category is NOT CHARGED.
URL:https://armsportfederation.com/event/sabac-open-2023/
LOCATION:Sabac High School
END:VEVENT
BEGIN:VEVENT
DTSTART;VALUE=DATE:20231201
DTEND;VALUE=DATE:20231204
DTSTAMP:20260426T022300
CREATED:20231017T171017Z
LAST-MODIFIED:20231017T171017Z
UID:792-1701388800-1701647999@armsportfederation.com
SUMMARY:Nordic Open 2023
DESCRIPTION:Svensk Armsport and Hammarby IF armbrytarförening invites you to compete at Nordic Open Championships in Stockholm\, Sweden!\nDate: 1-3rd of December 2023\n\nPlace:\nÄlvsjömässan/Stockholmsmässan Mässvägen 1\n125 30 Stockholm\n\nOnline registration is required\nLink and info will follow\n\n1st of December\nRegistration and weigh in in the evening\n\n2nd of December\nRegistration and weigh in in the morning\nReferee seminar\nElimination\, semi-finals\, finals\, both left and right arms\n\n3rd of december\nOver all classes\n\nWeight classes:\nSeniors\nMen 57kg\, 63kg\, 70kg\, 78kg\, 86kg\, 95kg\, 105kg\, +105kg\nWomen 52kg\, 57kg\, 63 kg\, 70kg\, 78kg\, +78\nJunior 18\nBoys 70\, 86\, +86\nGirls 63\, +63\nMaster Men\n-90 +90\nMaster Women\n-70 +70\nNote\n– Juniors and masters can pull in both one junior/master class and one class in Seniors\, both arms\n-Seniors can only pull in one weight class\n-Classes will only start if there are at least 3 persons registrated. If there are not enough registrations you will be offered to move up one weight class\n– All participants must be in sportspants\, sportsshoes and national or club t-shirt\n\nFees\nJuniors\n15 Euro per arm\nTo also compete in seniors\,15 Euro per arm\nSeniors and masters\nOne arm 25 Euro\nTwo arms 40 Euro\nMasters who also want to compete in seniors\, 15 Euro per arm\n\nPayment\nSwish\n123 323 49 11\n\nPayment card\nhttps://buy.stripe.com/dR67txdI5fZb6kgcMY\n\nWeigh in\nFriday 6 pm – 8 pm\nSaturday 8 am – 9.30 am\nCompetition starts at 10 am both days\n\nWeigh in will be held at :\nBest Western Royal Star Hotel\nMässvägen 1\n125 30 Stockholm\n\nAfterparty\nDinner and afterparty will be held at:\nBest Western Royal Star Hotel\nMässvägen 1\n125 30 Stockholm\nPrice 30 Euro\n\nMenu\nMain course\nSteak from beef with green pepper sauce\, glaced carrot\, served with potato gratin\nor\nBaked point cabbage with broccoli puree\, beurre blanc and pickled kohlrabi\nDessert\nStrawberry bavarois with marenge and Milk chocolate cream\nArmwrestling tables will be in the room.\n\nMore information about registration and payment will follow\n\nAccommodation\nThere are several hotels nearby.\nBest Western Royal Star Hotel offers a 15 % discount on a limited amount of rooms. For reservations e-mail anette@royalstar.se\nand use the code:\n-HAM301123\n\nLet them know date of arrival and departure\, what room you would like\, full name\, mobile phone number and if you have any other requests.\nhttps://www.bestwestern.se/hotel/88213…\n\nConnect hotel Stockholm offers a 15 % discount on their flex prices. For reservations e-mail reservation@connecthotels.se and use the code:\narmbrytning 15 %\nhttps://connecthotels.se/stockholm/\n\nThe event will take place during Fitnessfestivalen\nhttps://www.fitnessfestivalen.se/\n\nIf you have any questions please contact info@hammarbyarmbrytning.se\nor Stefan Karlström at +46 708 83 22 23
URL:https://armsportfederation.com/event/nordic-open-2023/
LOCATION:Älvsjömässan/Stockholmsmässan\, Mässvägen 1\, Stockholm\, 125 30\, Sweden
CATEGORIES:Local event
END:VEVENT
BEGIN:VEVENT
DTSTART;VALUE=DATE:20231021
DTEND;VALUE=DATE:20231022
DTSTAMP:20260426T022300
CREATED:20231018T081522Z
LAST-MODIFIED:20231018T081522Z
UID:813-1697846400-1697932799@armsportfederation.com
SUMMARY:Hammarby Armbash
DESCRIPTION:Hammarby armbrytning bjuder in till tävling. Anmälningsformulär:\nhttps://forms.office.com/Pages/ResponsePage.aspx…\n\nKlasser:\nSubjunior: flickor/ pojkar\, födda 2011 eller yngre.\nJunior: flickor/pojkar födda 2005-2010 Klasser skapas efter vikt.\nPris: 150:- / arm\n———————\nMaster Dam/Herr födda 1983 eller äldre\nKlasser skapas efter vikt.\nPris: 300 kr för en arm 450 kr för båda armarna\n——————————–\nPro senior\nHerrar\n-70\, -78\, -86\, -95\, -105\, +105\nDamer\n-60 – 70 -80 +80\nPris: 300 kr för en arm 450 kr för båda armarna\n————————–\nK2 senior\nHerrar\n-70 -80 -90 -105 +105\nDamer\n-60 -70 +70\nPris: 300 kr för en arm 450 kr för båda armarna\n——————————–\nK1 senior\nHerrar\n-70 -80 -90 -105 +105\nDamer\n-60 -70 +70\nPris: 300 kr för en arm 450 kr för båda armarna\n———————————\nFör samtliga klasser gäller:\n– Minst tre anmälda krävs för att klassen ska genomföras.\n– Anmälan är bindande och startavgiften återbetalas ej\, med undantag om arrangören ställer in klassen.\n– Anmälan gör med detta formulär (kommer senare)\n– Namn\, bilder och video från tävlingen kan komma att publiceras offentligt.\n– Dubbling kostar 150 kr extra per arm.\n-Sista dag att anmäla är 14 oktober\, efteranmälan eller anmälan på plats godtas kostar 100 kronor extra.\nSwisha anmälningsavgiften till: 123 323 49 11\nEller betala med kort via denna länk: https://buy.stripe.com/3cs7tx33r14heQM3cn\nInvägning:\nFredag 20/10 18:00-20:00 (Samtliga) i klubblokalen på kubikenborgsvägen 5.\nPå lördagen 21/10 är det på plats i Skärholmshallen\n08:00-09:30 (Samtliga\, men K2\, juniorer och master prioriteras)\n09:30-11:00 (Enbart K1 och PRO)\n11:00-12:00 (Enbart PRO)\nVi räknar med att tävlandet drar igång 10:00 och först ut är juniorer\, K2 och master som bryter klart både vänster och höger arm innan K1 och PRO börjar.\nVarmt välkomna\n—————————————\nFrågor eller funderingar\nkontakta\ninfo@hammarbyarmbrytning.se\nStefan Karlström 0708-83 22 23
URL:https://armsportfederation.com/event/hammarby-armbash/
LOCATION:Skärholmshallen\, Bodholmsgången 10\, Skärholmen\, 127 48\, Sweden
CATEGORIES:Local event
END:VEVENT
END:VCALENDAR