BEGIN:VCALENDAR
VERSION:2.0
PRODID:-//International Federation of Armwrestling (IFA) - ECPv6.3.2//NONSGML v1.0//EN
CALSCALE:GREGORIAN
METHOD:PUBLISH
X-WR-CALNAME:International Federation of Armwrestling (IFA)
X-ORIGINAL-URL:https://armsportfederation.com
X-WR-CALDESC:Events for International Federation of Armwrestling (IFA)
REFRESH-INTERVAL;VALUE=DURATION:PT1H
X-Robots-Tag:noindex
X-PUBLISHED-TTL:PT1H
BEGIN:VTIMEZONE
TZID:UTC
BEGIN:STANDARD
TZOFFSETFROM:+0000
TZOFFSETTO:+0000
TZNAME:UTC
DTSTART:20260101T000000
END:STANDARD
END:VTIMEZONE
BEGIN:VEVENT
DTSTART;TZID=UTC:20260501T080000
DTEND;TZID=UTC:20260503T170000
DTSTAMP:20260425T155628
CREATED:20260311T072449Z
LAST-MODIFIED:20260316T090613Z
UID:1453-1777622400-1777827600@armsportfederation.com
SUMMARY:GOLDEN LION 2026
DESCRIPTION:FACEBOOK EVENT: https://www.facebook.com/events/1640160037343326/?acontext=%7B”event_action_history”%3A[%7B”extra_data”%3A””%2C”mechanism”%3A”unknown”%2C”surface”%3A”search”%7D%2C%7B”extra_data”%3A””%2C”mechanism”%3A”attachment”%2C”surface”%3A”newsfeed”%7D%2C%7B”extra_data”%3A””%2C”mechanism”%3A”your_upcoming_events_unit”%2C”surface”%3A”bookmark”%7D]%2C”ref_notif_type”%3Anull%7D \n  \n  \nREGISTRATION FORM: https://docs.google.com/forms/d/e/1FAIpQLScF0cUcoFWYRio_WZLJ7DJJ0qVQkLyonLbQHxZxijaAU3Rofg/viewform?fbclid=IwY2xjawQd82lleHRuA2FlbQIxMABicmlkETFPNkFPeGFnam4xV0lYa1FUc3J0YwZhcHBfaWQQMjIyMDM5MTc4ODIwMDg5MgABHusEM29jnK3Pc4dP_c52WKE5OIfE_yW6nb-DrbA29zXfMLgNa6BSgislPRt3_aem_Us6L-JRaSRclFrAGNolW4g \n  \n  \n🇬🇧 [English text BELOW] 🇬🇧\n\n 30 години „Локомотив – 96″ – Международен турнир по Армрестлинг “Златен Лъв” 2026 \n\n Добре дошли в записването за един от най-очакваните турнири по армрестлинг в България – “Златен лъв – 2026”!\nТази година събитието е още по-специално\, защото отбелязваме 30 години от създаването на първия армрестлинг клуб в България – Локомотив 96. Клубът\, поставил началото на този спорт у нас\, продължава да бъде символ на традиция\, сила и шампионски дух.\n\nПо случай този юбилей турнирът “Златен лъв” ще събере на едно място състезатели от България и чужбина – шампиони\, млади таланти и всички\, които живеят за тръпката от армрестлинга. Очакват ви два дни\, изпълнени с напрегнати сблъсъци\, силна конкуренция и зрелищна атмосфера.\n\n Основна информация:\n\n Къде: Спортна зала “Никола Петров”\, гр. Горна Оряховица\n\n Кога: 2 и 3 май 2026 г.\n\n Награден фонд:\nОбщият награден фонд е над 3 000 евро и ще бъде разпределен между победителите в категориите.\n\n Програма на провеждане на турнира:\n\n Кантар:\n01.05.2026 г. (петък): 17:00 – 19:00 ч.02.05.2026 г. (събота): 08:30 – 09:30 ч.\n\n Допустим толеранс: 200 гр.\n Съдийски семинар:\n01.05.2026 г. (петък): 19:00 – 20:00 ч.\n\n Такса за участие:\n\nМомчета до 15 г.:\n10 евро за 1 ръка\n15 евро за двете ръце\n\nЮноши и девойки до 18 г.:\n10 евро за 1 ръка\n15 евро за двете ръце\n\nМладежи и девойки до 21 г.:\n10 евро за 1 ръка\n15 евро за двете ръце\n\nМъже:\n20 евро за 1 ръка\n30 евро за двете ръце\n\nЖени:\n20 евро за 1 ръка\n30 евро за двете ръце\n\nВетерани:\n20 евро за 1 ръка\n30 евро за двете ръце\n\nХора с увреждания са освободени от такса участие!\n\nВАЖНОВсеки\, който не се е регистрирал онлайн или е попълнил невярна информация\, заплаща двойна такса за участие.\n\n Откриване:\n02.05.2026 г.: 10:30 ч.\n Начало на квалификациите:\nЛява ръка: 02.05.2026 г.\, 11:00 ч.Дясна ръка: 03.05.2026 г.\, 10:00 ч.\n Полуфиналните срещи ще се играят по време на квалификациите.\n\n Финалите ще започнат 30 минути след приключване на квалификациите.\n\n ЗАБЕЛЕЖКИ:\nСъстезанието ще се проведе на професионални армрестлинг маси с подложки 20 x 20 см.\nТурнирът ще бъде проведен на принципа на двойна елиминация.\nПри определяне на категориите се взема предвид годината на раждане\, а не дата и месец.\nМомчета\, юноши и младежи имат право да се запишат за участие както в своята възрастова категория\, така и в категория “Мъже”.\nДевойки до 18 г. и девойки до 21 г. могат да се запишат за участие в категория “Жени”. Девойки до 18 г. НЕ могат да се записват в категория „Девойки до 21 г.“\nЗа участие в категория “Хора с увреждания” е необходимо решение от ТЕЛК за призната инвалидност над 72%.\nУчастниците имат право да участват само в една (тяхната или горната) теглова категория.\nОрганизаторът си запазва правото да променя информацията за турнира по всяко време.\n\nЗа повече информация:\nПламен Димитров: +359 88 3435818\n\nIG: Armwrestling Club “Lokomotiv 96”- Official Instagram PageFB: Armwrestling Club “Lokomotiv 96”- Official Facebook PageEmail: armwrestlinglokomotiv96@gmail.com_______________________\n EN \n\n 30 Years of “Lokomotiv 96” – International Armwrestling Tournament “Golden Lion 2026” \n\n Welcome to the registration for one of the most anticipated armwrestling tournaments in Bulgaria – “Golden Lion – 2026”!\nThis year the event is even more special\, as we celebrate 30 years since the founding of the first armwrestling club in Bulgaria – Lokomotiv 96. The club that laid the foundation of armwrestling in our country continues to be a symbol of tradition\, strength and a champion’s spirit.\n\nOn the occasion of this anniversary\, the “Golden Lion” tournament will bring together competitors from Bulgaria and abroad – champions\, young talents and everyone who lives for the thrill of armwrestling. Two days filled with intense matches\, strong competition and spectacular atmosphere await you.\n\n Key Information:\n\n Where: Sports Hall “Nikola Petrov”\, Gorna Oryahovitsa\n\n When: May 2nd and 3rd\, 2026.\n\n Prize Fund:\nThe total prize fund exceeds €3\,000\, to be distributed among the category winners.\n\n Tournament Schedule:\n\n Weigh-In:\nMay 1st\, 2026 (Friday): 5:00–7:00 PMMay 2nd\, 2026 (Saturday): 8:30–9:30 AM\n\n Weight Tolerance: 200 grams\n Referee Seminar:\nMay 1st\, 2026 (Friday): 7:00–8:00 PM\n Participation Fee:\nJuniors U-15 Men:\n10 euros for one arm\n15 euros for both arms\n\nJuniors U-18 Men and Women:\n10 euros for one arm\n15 euros for both arms\n\nJuniors U-21 Men and Women:\n10 euros for one arm\n15 euros for both arms\n\nMen:\n20 euros for one arm\n30 euros for both arms\n\nWomen:\n20 euros for one arm\n30 euros for both arms\n\nMasters:\n20 euros for one arm\n30 euros for both arms\n\nDisabled categories are exempt from the participation fee.\n\nIMPORTANTAnyone who hasn’t registered online or has provided incorrect information will pay double the participation fee.\n\n Opening Ceremony:\nMay 2nd\, 2026: 10:30 AM\n Qualification Start:\nLeft arm: May 2nd\, 2026\, 11:00 AMRight arm: May 3rd\, 2026\, 10:00 AM\n Semifinals will be played during the qualification rounds.\n\n Final matches will begin 30 minutes after the qualifications end.\n\n NOTES:\nThe competition will be held on professional armwrestling tables with 20 x 20 cm elbow pads.\nThe tournament will follow a double-elimination format.\nAge categories are determined by the year of birth\, not the exact date or month.\nJuniors U15/U18/U21 may register both in their own age category and in the “Men” category.\nJunior U-18 Women and Junior U-21 Women may register in the “Women” category. Junior U-18 Women cannot register in the “Junior U-21 Women” category.\nParticipation in the “Disabled” category requires an official decision from the Medical Expert Commission (TELK) recognizing a disability of over 72%.\nCompetitors are allowed to participate in only one weight category (their own or the next higher category).\nThe organizer reserves the right to change the tournament information at any time.\nFor more information:\nPlamen Dimitrov: +359 88 3435818\n\nInstagram: Armwrestling Club “Lokomotiv 96” – Official Instagram PageFacebook: Armwrestling Club “Lokomotiv 96” – Official Facebook PageEmail: armwrestlinglokomotiv96@gmail.com
URL:https://armsportfederation.com/event/1453/
ATTACH;FMTTYPE=image/jpeg:https://armsportfederation.com/wp-content/uploads/2026/03/golden-lion.jpg
END:VEVENT
END:VCALENDAR