BEGIN:VCALENDAR
VERSION:2.0
PRODID:-//International Federation of Armwrestling (IFA) - ECPv6.3.2//NONSGML v1.0//EN
CALSCALE:GREGORIAN
METHOD:PUBLISH
X-ORIGINAL-URL:http://armsportfederation.com
X-WR-CALDESC:Events for International Federation of Armwrestling (IFA)
REFRESH-INTERVAL;VALUE=DURATION:PT1H
X-Robots-Tag:noindex
X-PUBLISHED-TTL:PT1H
BEGIN:VTIMEZONE
TZID:UTC
BEGIN:STANDARD
TZOFFSETFROM:+0000
TZOFFSETTO:+0000
TZNAME:UTC
DTSTART:20260101T000000
END:STANDARD
END:VTIMEZONE
BEGIN:VEVENT
DTSTART;TZID=UTC:20260822T080000
DTEND;TZID=UTC:20260823T170000
DTSTAMP:20260426T035234
CREATED:20260107T102710Z
LAST-MODIFIED:20260107T102710Z
UID:1349-1787385600-1787504400@armsportfederation.com
SUMMARY:DRACULA ARMWRESTLING INTERNATIONAL CUP 2026 22 - 23 AUGUST 2026 CODLEA- BRASOV-ROMANIA
DESCRIPTION:Further information will be shared shortly. \nStay tuned!
URL:http://armsportfederation.com/event/dracula-armwrestling-international-cup-2026-22-23-august-2026-codlea-brasov-romania/
END:VEVENT
BEGIN:VEVENT
DTSTART;TZID=UTC:20260922T080000
DTEND;TZID=UTC:20260928T170000
DTSTAMP:20260426T035234
CREATED:20260107T113344Z
LAST-MODIFIED:20260110T095721Z
UID:1360-1790064000-1790614800@armsportfederation.com
SUMMARY:IFA World Armwrestling Championship 2026
DESCRIPTION:International Federation of Armwrestling (IFA)\, Japan Arm Wrestling Association proudly invite you to the 2026 IFA World Armwrestling Championships. It will be open to the Federations that have joined\, and to all individual members from countries without National Federation – member of IFA. The Championships will be doping controlled\, and all divisions of junior\, masters\, seniors and disabled will be added. There will be no limit to number of athletes allowed from one nation in one category. National federations that have joined will be the only entity allowed to register athletes from their nation. Individual membership is only possible from nations lacking a National Federation – member of IFA. \n  \n国際アームレスリング連盟(IFA)と日本アームレスリング連盟(JAWA)は、2026年IFA世界アームレスリング選手権へみなさまをご招待いたします。本選手権大会には、IFA加盟の各国連盟およびIFA加盟の国内連盟がない国の個人会員の選手が参加可能です。本選手権はジュニア、マスターズ、シニア、障がい者の全部門で開催され、ドーピング検査も実施されます。加盟している国内連盟のみが選手登録を行うことができます。個人会員は、IFA加盟の国内連盟がない国からのみ登録可能です。 \n  \n  \nEvent period｜開催期間\nSeptember 22-28\, 2026｜2026年9月22日～27日 \n22nd(Tuesday)｜22日(火曜日) \nTeams arrival (all day)｜各国選手団到着 \n23rd(Wednesday)｜23日(水曜日) \n9:00～ Team registration and weigh in all Junior up 15\, 18\, 21\, Masters\, Grand Masters\, Senior Grand Masters\, Ultra Grand Masters (At the VENUE)｜各国登録とジュニア・マスターズ検量(大会会場にて) \n13:00～ ｜Referee seminar (At the VENUE)｜レフリーセミナー(大会会場にて) \n17:00～ ｜IFA Congress meeting (At the VENUE)｜IFA世界会議(大会会場にて) \n24th(Thursday)｜24日(木曜日) \n9:00～ Opening ceremony – teams presentation – LEFT HAND – all Junior and Master classes｜開会式・ジュニア・マスターズレフトハンド全予選｜ \n15:00～ Finals & Awards & Doping control｜決勝戦・表彰式・ドーピングコントロール \n25th(Friday)｜25日(金曜日) \n9:00～ Weigh in all Senior and Disabled classes｜シニア・障がいの部検量 \n9:00～ RIGHT HAND – all Junior and Master classes｜ジュニア・マスターズライトハンド全予選 \n15:00～ Finals & Awards & Doping control｜決勝戦・表彰式・ドーピングコントロール \n26th(Saturday)｜26日(土曜日) \n9:00～ LEFT HAND – all Senior and Disabled classes｜シニア・障がいの部レフトハンド全予選 \n15:00～ Finals & Awards & Doping control｜決勝戦・表彰式・ドーピングコントロール \n27th(Sunday)｜27日(日曜日) \n9:00～ RIGHT HAND – all Senior and Disabled classes｜シニア・障がいの部ライトハンド全予選 \n15:00～ Finals & Awards & Doping control｜決勝戦・表彰式・ドーピングコントロール \n28th(Monday)｜28日(月曜日) \nTeams departure (all day)｜各国選手団帰国 \n  \nOfficial JAWA site: https://jawa-armwrestling.org/?page_id=37482&fbclid=IwY2xjawPLIuxleHRuA2FlbQIxMQBzcnRjBmFwcF9pZAEwAAEemZynhga6AhJsuNi_IqA6YeXK_ONalOoF5VZQnyO932g9i6Gt5XSAanzvUFE_aem_Z1Zbq16rBW6XL9DXvEXJtQ
URL:http://armsportfederation.com/event/1360/
ATTACH;FMTTYPE=image/jpeg:http://armsportfederation.com/wp-content/uploads/2026/01/0worldlogo.jpg
END:VEVENT
BEGIN:VEVENT
DTSTART;TZID=UTC:20261114T080000
DTEND;TZID=UTC:20261115T170000
DTSTAMP:20260426T035234
CREATED:20251128T093520Z
LAST-MODIFIED:20251128T093944Z
UID:1335-1794643200-1794762000@armsportfederation.com
SUMMARY:Mexico National Armwrestling Championship 2026
DESCRIPTION:Mexico National Armwrestling Championship 2026 🇲🇽 \n📍 Mexicali\, Baja California\, México \n📅 November 14th & 15th\, 2026 \nℹ️ More details will follow soon
URL:http://armsportfederation.com/event/mexico-national-armwrestling-championship-2026/
ATTACH;FMTTYPE=image/jpeg:http://armsportfederation.com/wp-content/uploads/2025/11/a9fc9fa8-118a-455f-9a30-6022f0e8c01a.jpeg
END:VEVENT
END:VCALENDAR