BEGIN:VCALENDAR
VERSION:2.0
PRODID:-//International Federation of Armwrestling (IFA) - ECPv6.3.2//NONSGML v1.0//EN
CALSCALE:GREGORIAN
METHOD:PUBLISH
X-ORIGINAL-URL:http://armsportfederation.com
X-WR-CALDESC:Events for International Federation of Armwrestling (IFA)
REFRESH-INTERVAL;VALUE=DURATION:PT1H
X-Robots-Tag:noindex
X-PUBLISHED-TTL:PT1H
BEGIN:VTIMEZONE
TZID:UTC
BEGIN:STANDARD
TZOFFSETFROM:+0000
TZOFFSETTO:+0000
TZNAME:UTC
DTSTART:20260101T000000
END:STANDARD
END:VTIMEZONE
BEGIN:VEVENT
DTSTART;VALUE=DATE:20260710
DTEND;VALUE=DATE:20260714
DTSTAMP:20260425T220035
CREATED:20260211T105043Z
LAST-MODIFIED:20260311T065942Z
UID:1445-1783641600-1783987199@armsportfederation.com
SUMMARY:33rd SENEC HAND IFA Armwrestling World Cup 10-13 July 2026
DESCRIPTION:FACEBOOK EVENT: https://www.facebook.com/events/2096141771181875?acontext=%7B”event_action_history”%3A[%7B”surface”%3A”search”%7D%2C%7B”mechanism”%3A”attachment”%2C”surface”%3A”newsfeed”%7D]%2C”ref_notif_type”%3Anull%7D\n\n33rd Senec hand\,IFA Armwrestling World CupDate: 10th July 2026 to 13th July 2026\nPlace:MsKS Senec\, 1st May Square\, Senec\, Slovakia\nWeight classes:SeniorsMen left / right: 63\, 70\, 78\, 86\, 95\, 105\, 105+ kgWomen left / right: 57\, 63\, 63+ kgJuniorsBoys U18 left / right: 70\, 86\, 86+ kgGirls U18 left / right: 63\,63+ kgMastersMen left / right: 70\, 95\, 95+ kgWomen left / right: OpenDisabled PI Standingmen left / right: 80\, 80+ kgWomen left/right: OpenDisabled VI StandingMen left/right: Open\nEntry fee:Junior fee: 10\,- EUR per class per arm (Junior classes only)Senior fee: 25\,- EUR per class per armMaster fee: 25\,- EUR per class per armDisabled fee: 10\,- EUR per class per arm (Disabled classes only)Junior and Disabled athletes competing in Senior or Master classes are obliged to pay fee accoding particular age goup.\nFREE OFFICIAL SENEC HAND T-SHIRT for all pre-registered pullers /will be confirmed/\nSCHEDULE OF EVENTS:Friday: July 10th 2026Team arrivalsRegistration: 18:00 – 21:00\, Friday\, At the VENUE (entry from the back side of the buliding)\nSaturday July 11th 20269:00 – 10:30 Registration and Weigh in at the Venue11:00 Preliminary left hand classes***15:00 TEAMS (right hand) preliminary16:00 Finals and awards – left hand classesPARTY: 21:00 – Country Saloon\nSunday July 12th 202610:00 Preliminary right hand classes***14:00 TEAMS (right hand) preliminary15:00 Finals and awards – right hand classesPARTY: 20:00 – County Club\nMonday July 13th 2026Team departures\n*** TEAM TournamentMen right hand classes only70\, 86\, 95\, 105\, 105+ kgTeams pull in each class for three matches. Team who get more wins (points) is winner. Double elimination system.TEAM Tournament will be on place if at least 4 teams will be registered.\nONLINE REGISTRATION:Online registration fom 1.4.2026\n\nAWARDS:Nice medails for first three in each class.***TEAMS – trophies\n\n!!! NOTE:Each weight class is open if there are two and more pullers registered!\n\n!!! NOTE:National\, team T-shirts or official Senec hand T-shirts are allowed only. All T-shirts promoting other events or leagues are prohibited.\n\nOFFCIAL HOTELS:It is high season in Senec in July\, please book your hotel through booking.com\n\nTRANSPORT:Senec is located 25 km from the capital city Bratislava.\nAirports: Bratislava (direct flights from many European cities; seewww.ryanair.com; Vienna (60 km from Bratislava)\nMotorway: from Bratislava take E75 direction Zilina\, exit Senec; from north the same E75 direction Bratislava\, exit Senec.\n\nVISA:Please send us your visa requests as soon as possible to avoid any issues.\n\nContact:Marian Capla (english\, russian\, polish): +421 903 716 032\, marian.capla@gmail.com
URL:http://armsportfederation.com/event/33rd-senec-hand-ifa-armwrestling-world-cup-10-13-july-2026/
LOCATION:Senec\, Senec\, Slovakia (Slovak Republic)
ATTACH;FMTTYPE=image/jpeg:http://armsportfederation.com/wp-content/uploads/2026/02/598234422_1582233266255188_1353188572713147826_n.jpg
END:VEVENT
END:VCALENDAR