BEGIN:VCALENDAR
VERSION:2.0
PRODID:-//International Federation of Armwrestling (IFA) - ECPv6.3.2//NONSGML v1.0//EN
CALSCALE:GREGORIAN
METHOD:PUBLISH
X-WR-CALNAME:International Federation of Armwrestling (IFA)
X-ORIGINAL-URL:http://armsportfederation.com
X-WR-CALDESC:Events for International Federation of Armwrestling (IFA)
REFRESH-INTERVAL;VALUE=DURATION:PT1H
X-Robots-Tag:noindex
X-PUBLISHED-TTL:PT1H
BEGIN:VTIMEZONE
TZID:UTC
BEGIN:STANDARD
TZOFFSETFROM:+0000
TZOFFSETTO:+0000
TZNAME:UTC
DTSTART:20260101T000000
END:STANDARD
END:VTIMEZONE
BEGIN:VEVENT
DTSTART;TZID=UTC:20260611T080000
DTEND;TZID=UTC:20260615T170000
DTSTAMP:20260425T202713
CREATED:20260123T093727Z
LAST-MODIFIED:20260123T100808Z
UID:1422-1781164800-1781542800@armsportfederation.com
SUMMARY:IFA EUROPEAN ARMWRESTLING CHAMPIONSHIP 2026
DESCRIPTION:IFA EUROPEAN ARMWRESTLING CHAMPIONSHIP 2026 \n  \nMy name is Dan Vlad\, I am the president of the IFA ROMANIA federation\, and I am delighted and honored to announce that in 2026\, Romania will host the IFA European Armwrestling Championship! \n  \n Date: June 11-15\, 2026 \n  \n Location: Codlea\, Brașov\, Romania \n  \nWe invite you to be our guests in the legendary land of Dracula\, just 25 km from his famous castle. \nWe hope to see massive participation from all over Europe\, and in return we guarantee impeccable organization and an unforgettable event! \n Armwrestling at the highest level \n Sport\, passion\, and fair play \n An authentic Romanian experience We look forward to seeing you there!
URL:http://armsportfederation.com/event/ifa-european-armwrestling-championship-2026/
ATTACH;FMTTYPE=image/jpeg:http://armsportfederation.com/wp-content/uploads/2026/01/romania-euro-2026.jpg
END:VEVENT
END:VCALENDAR